BEGIN:VCALENDAR
VERSION:2.0
PRODID:-//ChamberMaster//Event Calendar 2.0//EN
METHOD:PUBLISH
X-PUBLISHED-TTL:P3D
REFRESH-INTERVAL:P3D
CALSCALE:GREGORIAN
BEGIN:VEVENT
DTSTART:20060818T050000Z
DTEND:20060820T050000Z
X-MICROSOFT-CDO-ALLDAYEVENT:FALSE
SUMMARY:Edison Park Fest 2006
DESCRIPTION:Neighborhood festival sponsored in part by the Mayor's Office of Special Events.  Highlights include live entertainment\, beer garden\, arts & craft vendors\, business expo\, children's activities/play area\, rafffle and taste of Edison Park.  This festival takes place in downtown Edison Park and is attended by upwards of 10\,000 people.  See website link for more detailed information
X-ALT-DESC;FMTTYPE=text/html:Neighborhood festival sponsored in part by the Mayor's Office of Special Events.  Highlights include live entertainment\, beer garden\, arts & craft vendors\, business expo\, children's activities/play area\, rafffle and taste of Edison Park.  This festival takes place in downtown Edison Park and is attended by upwards of 10\,000 people.  See website link for more detailed information
LOCATION:Edison Park Metra Station Parking Lot\, Olmsted Ave. from Oliphant to Overhill\, Oliphant Avenue from Avondale to Northwest Hwy. and Oshkosh Avenue from Olmsted to Northwest Hwy.
UID:e.60.7
SEQUENCE:3
DTSTAMP:20260420T003047Z
URL:http://edisonparkchamber.chambermaster.com/events/details/edison-park-fest-2006-08-18-2006-7
END:VEVENT

END:VCALENDAR
